BEGIN:VCALENDAR
VERSION:2.0
PRODID:-//一般社団法人 国際英語音メンタリング振興会 - ECPv4.9.13//NONSGML v1.0//EN
CALSCALE:GREGORIAN
METHOD:PUBLISH
X-WR-CALNAME:一般社団法人 国際英語音メンタリング振興会
X-ORIGINAL-URL:https://se-mentoring.com
X-WR-CALDESC:一般社団法人 国際英語音メンタリング振興会 のイベント
BEGIN:VTIMEZONE
TZID:Asia/Tokyo
BEGIN:STANDARD
TZOFFSETFROM:+0900
TZOFFSETTO:+0900
TZNAME:JST
DTSTART:20200101T000000
END:STANDARD
END:VTIMEZONE
BEGIN:VEVENT
DTSTART;TZID=Asia/Tokyo:20200611T100000
DTEND;TZID=Asia/Tokyo:20200611T104500
DTSTAMP:20260423T090244
CREATED:20200606T132826Z
LAST-MODIFIED:20200606T132907Z
UID:1608-1591869600-1591872300@se-mentoring.com
SUMMARY:【オンライン】サウンドイングリッシュ親子サロン
DESCRIPTION: \n  \nこちらから概要をごらんください。↓ \nサウンドイングリッシュ親子サロン \n
URL:https://se-mentoring.com/event/se-oyako-salon-14/
END:VEVENT
END:VCALENDAR