BEGIN:VCALENDAR
VERSION:2.0
PRODID:-//一般社団法人 国際英語音メンタリング振興会 - ECPv4.9.13//NONSGML v1.0//EN
CALSCALE:GREGORIAN
METHOD:PUBLISH
X-WR-CALNAME:一般社団法人 国際英語音メンタリング振興会
X-ORIGINAL-URL:https://se-mentoring.com
X-WR-CALDESC:一般社団法人 国際英語音メンタリング振興会 のイベント
BEGIN:VTIMEZONE
TZID:Asia/Tokyo
BEGIN:STANDARD
TZOFFSETFROM:+0900
TZOFFSETTO:+0900
TZNAME:JST
DTSTART:20200101T000000
END:STANDARD
END:VTIMEZONE
BEGIN:VEVENT
DTSTART;TZID=Asia/Tokyo:20200621T140000
DTEND;TZID=Asia/Tokyo:20200621T153000
DTSTAMP:20260423T123607
CREATED:20200606T133415Z
LAST-MODIFIED:20200606T133415Z
UID:1615-1592748000-1592753400@se-mentoring.com
SUMMARY:【オンライン】サウンドイングリッシュ・親と子の未来をひらく魔法のメソッド体感セミナー   
DESCRIPTION: \n  \n  \n  \n  \n  \n  \n  \n  \n  \n  \nこちらから詳細をご覧ください。↓ \nサウンドイングリッシュ・親と子の未来をひらく魔法のメソッド体感セミナー\n  \n
URL:https://se-mentoring.com/event/soundenglish-trial-3/
END:VEVENT
END:VCALENDAR